BEGIN:VCALENDAR
VERSION:2.0
METHOD:PUBLISH
PRODID:-//imacoda.com//SPD-Web-O-Mat//EN
CALSCALE:GREGORIAN
BEGIN:VTIMEZONE
TZID:Europe/Berlin
BEGIN:DAYLIGHT
TZOFFSETFROM:+0100
RRULE:FREQ=YEARLY;BYMONTH=3;BYDAY=-1SU
DTSTART:19810329T020000
TZNAME:MESZ
TZOFFSETTO:+0200
END:DAYLIGHT
BEGIN:STANDARD
TZOFFSETFROM:+0200
RRULE:FREQ=YEARLY;BYMONTH=10;BYDAY=-1SU
DTSTART:19961027T030000
TZNAME:MEZ
TZOFFSETTO:+0100
END:STANDARD
END:VTIMEZONE
BEGIN:VEVENT
UID:20260103T112551Z-00001159108-LULU@www.bayernspd.de
CREATED:20260103T112551Z
LAST-MODIFIED:20260119T164711Z
DTSTAMP:20260119T164711Z
TRANSP:TRANSPARENT
DTSTART;TZID=Europe/Berlin:20260220T170000
DTEND;TZID=Europe/Berlin:20260220T190000
SUMMARY:Bürgersprechstunde mit den Stadträten Anne Lenz-Böhlau und Wolfg
 ang Giegerich
LOCATION:Bürgerhaus Nilkheim\, Mergenbaumplatz
DESCRIPTION:Termin im Web (SPD Nilkheim-Leider):\nhttps://spd-nilkheim-l
 eider.de/termine/?id=1159108
END:VEVENT
END:VCALENDAR
